BEGIN:VCALENDAR
VERSION:2.0
PRODID:-//Staten Island AA General Services - ECPv6.15.20//NONSGML v1.0//EN
CALSCALE:GREGORIAN
METHOD:PUBLISH
X-WR-CALNAME:Staten Island AA General Services
X-ORIGINAL-URL:https://statenislandaa.org
X-WR-CALDESC:Events for Staten Island AA General Services
REFRESH-INTERVAL;VALUE=DURATION:PT1H
X-Robots-Tag:noindex
X-PUBLISHED-TTL:PT1H
BEGIN:VTIMEZONE
TZID:America/New_York
BEGIN:DAYLIGHT
TZOFFSETFROM:-0500
TZOFFSETTO:-0400
TZNAME:EDT
DTSTART:20200308T070000
END:DAYLIGHT
BEGIN:STANDARD
TZOFFSETFROM:-0400
TZOFFSETTO:-0500
TZNAME:EST
DTSTART:20201101T060000
END:STANDARD
BEGIN:DAYLIGHT
TZOFFSETFROM:-0500
TZOFFSETTO:-0400
TZNAME:EDT
DTSTART:20210314T070000
END:DAYLIGHT
BEGIN:STANDARD
TZOFFSETFROM:-0400
TZOFFSETTO:-0500
TZNAME:EST
DTSTART:20211107T060000
END:STANDARD
BEGIN:DAYLIGHT
TZOFFSETFROM:-0500
TZOFFSETTO:-0400
TZNAME:EDT
DTSTART:20220313T070000
END:DAYLIGHT
BEGIN:STANDARD
TZOFFSETFROM:-0400
TZOFFSETTO:-0500
TZNAME:EST
DTSTART:20221106T060000
END:STANDARD
END:VTIMEZONE
BEGIN:VEVENT
DTSTART;VALUE=DATE:20210730
DTEND;VALUE=DATE:20210801
DTSTAMP:20260423T152506
CREATED:20210529T151858Z
LAST-MODIFIED:20210529T153923Z
UID:2373-1627603200-1627775999@statenislandaa.org
SUMMARY:Informational Workshop - Area 48
DESCRIPTION:Registration is open for anyone who would like to learn more about General Services in NYS.  Please visit our website for more information.
URL:https://statenislandaa.org/events-calendar/informational-workshop-area-48/
LOCATION:Virtual
CATEGORIES:S.E.N.Y.
ATTACH;FMTTYPE=image/jpeg:https://statenislandaa.org/wp-content/uploads/2021/05/Informational-Workshop-2-e1622302686691.jpg
END:VEVENT
BEGIN:VEVENT
DTSTART;TZID=America/New_York:20210729T193000
DTEND;TZID=America/New_York:20210729T203000
DTSTAMP:20260423T152506
CREATED:20210713T123701Z
LAST-MODIFIED:20210713T123701Z
UID:2476-1627587000-1627590600@statenislandaa.org
SUMMARY:SI Share-A-Day 2021 Planning Committee Meeting
DESCRIPTION:All are welcome\, service volunteers are needed.  Join us for a great experience. \nZOOM ID: 899 5097 8890 \nPasscode: freedom
URL:https://statenislandaa.org/events-calendar/si-share-a-day-2021-planning-committee-meeting/
LOCATION:Virtual
CATEGORIES:Share-A-Day
END:VEVENT
BEGIN:VEVENT
DTSTART;TZID=America/New_York:20210727T193000
DTEND;TZID=America/New_York:20210727T203000
DTSTAMP:20260423T152506
CREATED:20210712T122845Z
LAST-MODIFIED:20210712T125201Z
UID:2464-1627414200-1627417800@statenislandaa.org
SUMMARY:SAVE THE DATE...Block Party Planning Committee
DESCRIPTION:SIGS District Chair Members (DCMs) are organizing an AA block party.  The tentative date is September 25th at Wolfe’s Pond Park.  If you are interested in joining in to help with planning\, mark 7/27/21 @ 7:30pm on your calendar.  More details will be posted ASAP.
URL:https://statenislandaa.org/events-calendar/save-the-date-block-party-planning-committee/
LOCATION:Virtual
CATEGORIES:DCM
END:VEVENT
BEGIN:VEVENT
DTSTART;TZID=America/New_York:20210722T190000
DTEND;TZID=America/New_York:20210722T210000
DTSTAMP:20260423T152506
CREATED:20210713T121625Z
LAST-MODIFIED:20210713T170414Z
UID:2469-1626980400-1626987600@statenislandaa.org
SUMMARY:DCM Roundtable Discussion: The Tom & Jerry Show
DESCRIPTION:Staten Island General Services’ (SIGS) DCMs present The TOM & JERRY Show: \nThis month the DCMs Roundtable Discussion will focus on Service Sponsorship and our Staten Island AA Archives.  Join our meet and greet and participate in the “Ask It Basket”.  We will also shine the spotlight on two Staten Island groups each month\, this month’s spotlight will highlight The Jaywalkers Group and The First Drink Group. \nZOOM ID: 641 967 1931 \nPASSCODE: 2021
URL:https://statenislandaa.org/events-calendar/dcm-roundtable-discussion-the-tom-jerry-show/
LOCATION:Virtual
CATEGORIES:DCM
ATTACH;FMTTYPE=image/jpeg:https://statenislandaa.org/wp-content/uploads/2021/07/Tom-n-Jerry-Show-JPEG-e1626195802989.jpg
END:VEVENT
BEGIN:VEVENT
DTSTART;TZID=America/New_York:20210720T193000
DTEND;TZID=America/New_York:20210720T203000
DTSTAMP:20260423T152506
CREATED:20210714T022953Z
LAST-MODIFIED:20210714T023207Z
UID:2491-1626809400-1626813000@statenislandaa.org
SUMMARY:First Step Group:  REOPENING
DESCRIPTION:New location at St. Joseph’s Youth Center\, 185 St. Mary’s Ave.\, 10305.  Masks and social distancing required\, 40 person limit\, bring own coffee (parking in lot at corner of St. Mary’s & Tompkins Ave)
URL:https://statenislandaa.org/events-calendar/first-step-group-reopening-tues-july-20th-at-730pm-in-tham-new-location-st-josephs-youth-center-185-st-marys-ave-10305-masks-and-social-distancing-required-40-person-limit-bring-own-c/
END:VEVENT
BEGIN:VEVENT
DTSTART;TZID=America/New_York:20210711T190000
DTEND;TZID=America/New_York:20210711T210000
DTSTAMP:20260423T152506
CREATED:20210426T021411Z
LAST-MODIFIED:20210708T232033Z
UID:2265-1626030000-1626037200@statenislandaa.org
SUMMARY:S.I.G.S. Committee Meeting
DESCRIPTION:Staten Island General Services (S.I.G.S.) Committee Meeting of GSRs and SIGS Committees\nAll are welcome!  See how AA works below the group level. \n\n\n\n\n\nZOOM ID: 847 1858 9467\nPasscode: 2021
URL:https://statenislandaa.org/events-calendar/s-i-g-s-committee-meeting-3/
LOCATION:Virtual
CATEGORIES:SIGS Meeting
END:VEVENT
BEGIN:VEVENT
DTSTART;TZID=America/New_York:20210711T183000
DTEND;TZID=America/New_York:20210711T190000
DTSTAMP:20260423T152506
CREATED:20210426T023428Z
LAST-MODIFIED:20210708T232235Z
UID:2272-1626028200-1626030000@statenislandaa.org
SUMMARY:S.I.G.S. New GSR Orientation
DESCRIPTION:ZOOM ID: 847 1858 9467\nPasscode: 2021
URL:https://statenislandaa.org/events-calendar/s-i-g-s-new-gsr-orientation-3/
LOCATION:Virtual
END:VEVENT
BEGIN:VEVENT
DTSTART;TZID=America/New_York:20210705T120000
DTEND;TZID=America/New_York:20210705T130000
DTSTAMP:20260423T152506
CREATED:20210604T015026Z
LAST-MODIFIED:20210604T015156Z
UID:2412-1625486400-1625490000@statenislandaa.org
SUMMARY:Keeping It Simple Group - REOPENING
DESCRIPTION:The Keeping it Simple Group will move to Mondays and resume in person meetings on Monday July 5 at 12pm noon Immanuel Lutheran Church : 2024 Richmond Ave\, Staten Island\, NY 10314 masks and Social distancing & contact tracing required.  – Bring your own coffee – 50 person limit.
URL:https://statenislandaa.org/events-calendar/keeping-it-simple-group/
END:VEVENT
BEGIN:VEVENT
DTSTART;TZID=America/New_York:20210704T110000
DTEND;TZID=America/New_York:20210704T120000
DTSTAMP:20260423T152506
CREATED:20210606T234755Z
LAST-MODIFIED:20210616T181408Z
UID:2420-1625396400-1625400000@statenislandaa.org
SUMMARY:Conscious Contact Steps 3 & 11 - REOPENING & HYBRID
DESCRIPTION:Conscious Contact – Steps 3 & 11 will be re-opening on Sunday July 4th at 11:00 AM at our old location:  St. Patrick’s School Cafeteria\, 3560 Richmond Road (enter Parking Lot on Kensico St.) The current CDC Guidelines will be followed.
URL:https://statenislandaa.org/events-calendar/conscious-contact-steps-3-11-reopening/
END:VEVENT
BEGIN:VEVENT
DTSTART;TZID=America/New_York:20210702T130000
DTEND;TZID=America/New_York:20210702T140000
DTSTAMP:20260423T152506
CREATED:20210529T161808Z
LAST-MODIFIED:20210529T161808Z
UID:2391-1625230800-1625234400@statenislandaa.org
SUMMARY:The Friday Afternoon Step Group - REOPENING
DESCRIPTION:Meetings will be going live at 1:00pm at the Messiah Lutheran Church basement located at 205 Jefferson Blvd\, Staten Island\, NY.  80 Person Limit\, No Food\, BYOC.  Masks and social distancing are required.  Contact tracing is also required.
URL:https://statenislandaa.org/events-calendar/the-friday-afternoon-step-group-reopening/
END:VEVENT
BEGIN:VEVENT
DTSTART;TZID=America/New_York:20210701T190000
DTEND;TZID=America/New_York:20210701T200000
DTSTAMP:20260423T152506
CREATED:20210604T015959Z
LAST-MODIFIED:20210604T015959Z
UID:2415-1625166000-1625169600@statenislandaa.org
SUMMARY:Serenity Lounge - REOPENING
DESCRIPTION:The Serenity Lounge will be reopening in person meetings beginning July 1\, 2021 at 1657 Victory Blvd\, Staten Island\, NY 10314 at 7pm.
URL:https://statenislandaa.org/events-calendar/serenity-lounge-reopening/
LOCATION:on the secretary notes.
END:VEVENT
BEGIN:VEVENT
DTSTART;TZID=America/New_York:20210627T090000
DTEND;TZID=America/New_York:20210627T110000
DTSTAMP:20260423T152506
CREATED:20210531T140413Z
LAST-MODIFIED:20210531T140413Z
UID:2404-1624784400-1624791600@statenislandaa.org
SUMMARY:36th UNITY Breakfast - Nassau County
DESCRIPTION:“AA in a Time of Change”
URL:https://statenislandaa.org/events-calendar/36th-unity-breakfast-nassau-county/
LOCATION:Virtual
END:VEVENT
BEGIN:VEVENT
DTSTART;TZID=America/New_York:20210626T130000
DTEND;TZID=America/New_York:20210626T150000
DTSTAMP:20260423T152506
CREATED:20210510T141551Z
LAST-MODIFIED:20210510T142312Z
UID:2333-1624712400-1624719600@statenislandaa.org
SUMMARY:Speaker Exchange Meeting
DESCRIPTION:A Speaker Exchange Meeting allows groups to invite members from other groups as speakers for meetings. In exchange\, your group will be invited to speak at their meetings. A great way to expand the experience\, strength and hope shared at both your meetings and theirs.
URL:https://statenislandaa.org/events-calendar/speaker-exchange-meeting/
LOCATION:Virtual
CATEGORIES:NYIG
END:VEVENT
BEGIN:VEVENT
DTSTART;TZID=America/New_York:20210625T190000
DTEND;TZID=America/New_York:20210625T210000
DTSTAMP:20260423T152506
CREATED:20210616T180404Z
LAST-MODIFIED:20210616T180404Z
UID:2428-1624647600-1624654800@statenislandaa.org
SUMMARY:"Our Upside Down Life" Workshop
DESCRIPTION:The DCMs of Staten Island General Services (SIGS) invite you to the “OUR UPSIDE DOWN LIFE” workshop.  Speakers will share their experience on service in Alcoholics Anonymous.
URL:https://statenislandaa.org/events-calendar/our-upside-down-life-workshop/
CATEGORIES:DCM
ATTACH;FMTTYPE=image/png:https://statenislandaa.org/wp-content/uploads/2021/06/DCM-Workshop-e1623866553691.png
END:VEVENT
BEGIN:VEVENT
DTSTART;TZID=America/New_York:20210620T090000
DTEND;TZID=America/New_York:20210620T100000
DTSTAMP:20260423T152506
CREATED:20210616T175235Z
LAST-MODIFIED:20210616T175235Z
UID:2426-1624179600-1624183200@statenislandaa.org
SUMMARY:Sunday Morning Early Birds - REOPENING
DESCRIPTION:Sunday Morning Early Birds meeting is reopening at Msgr. Farrell High School located at 2900 Amboy Road at 9am on 6/20/21
URL:https://statenislandaa.org/events-calendar/sunday-morning-early-birds-reopening/
END:VEVENT
BEGIN:VEVENT
DTSTART;TZID=America/New_York:20210617T193000
DTEND;TZID=America/New_York:20210617T203000
DTSTAMP:20260423T152506
CREATED:20210315T013853Z
LAST-MODIFIED:20210510T140906Z
UID:2028-1623958200-1623961800@statenislandaa.org
SUMMARY:NYIG - Staten Island Area Forum
DESCRIPTION:“An Area Forum is a meeting for New York Inter-Group Delegates and other A.A. members sponsored by the NYIG Office that meets bi-monthly in each Borough and Westchester County.  The meetings are presided by elected Area Representatives that are members of the Steering Committee.  The Forum provides an opportunity for Delegates to remain informed about timely New York Inter-Group A.A. activities\, special events\, elections\, and volunteer opportunities that they can report back to their Groups.  Forums serve as a chance for Delegates’ to share with their Area Representative any problems or concerns their members or groups are having so NYIG can use its experience and resources to assist with possible solutions. For more information please call 212-647-1680.” \nMeeting ID: 307 831 6673\nPassword: 2021 \n 
URL:https://statenislandaa.org/events-calendar/nyig-staten-island-area-forum/
LOCATION:Virtual
CATEGORIES:NYIG
END:VEVENT
BEGIN:VEVENT
DTSTART;TZID=America/New_York:20210614T200000
DTEND;TZID=America/New_York:20210614T210000
DTSTAMP:20260423T152506
CREATED:20210608T174338Z
LAST-MODIFIED:20210608T174338Z
UID:2423-1623700800-1623704400@statenislandaa.org
SUMMARY:Decker Avenue Step Meeting - REOPENING
DESCRIPTION:The Decker Avenue Step Meeting will be reopening on Monday\, June 14th @ 8:00PM\, at Immanuel Union Church located at 693 Jewett Avenue.
URL:https://statenislandaa.org/events-calendar/decker-avenue-step-meeting-reopening/
END:VEVENT
BEGIN:VEVENT
DTSTART;TZID=America/New_York:20210612T090000
DTEND;TZID=America/New_York:20210612T153000
DTSTAMP:20260423T152506
CREATED:20210510T151007Z
LAST-MODIFIED:20210530T084711Z
UID:2339-1623488400-1623511800@statenislandaa.org
SUMMARY:Post-Conference Assembly
DESCRIPTION:Our annual SENY Post-Conference Assembly where you will hear your Delegate’s full report-back on the historic 71st General Service Conference.  You can find the Advisory Actions and Committee Recommendations on line right now: aaseny.org/from-the-delegate – but for the full picture\, please come to this Assembly\, and get an inside view of “how it works” in A.A. as a Whole.  There will be a lot of time for Q&A after my presentation.  ALL A.A. MEMBERS ARE INVITED TO ATTEND!
URL:https://statenislandaa.org/events-calendar/post-conference-assembly/
LOCATION:Virtual
CATEGORIES:S.E.N.Y.
END:VEVENT
BEGIN:VEVENT
DTSTART;VALUE=DATE:20210604
DTEND;VALUE=DATE:20210607
DTSTAMP:20260423T152506
CREATED:20210530T084354Z
LAST-MODIFIED:20210530T084354Z
UID:2399-1622764800-1623023999@statenislandaa.org
SUMMARY:Northeast Regional Forum (NERF)
DESCRIPTION:The Northeast Regional Forum (NERF) is your chance to hear / talk with / get to know members of the General Service Board and the staff members at the General Service Office.  There will be presentations and workshops (including a SENY workshop on Saturday morning!)\, and it’s a great chance for ALL A.A. members to see how General Service works\, and to meet some of the people who serve all of Alcoholics Anonymous.  Go to aaseny.org (first button down on the Home page) to register.  It’s free!
URL:https://statenislandaa.org/events-calendar/northeast-regional-forum-nerf/
LOCATION:Virtual
END:VEVENT
BEGIN:VEVENT
DTSTART;TZID=America/New_York:20210603T200000
DTEND;TZID=America/New_York:20210603T210000
DTSTAMP:20260423T152506
CREATED:20210529T161144Z
LAST-MODIFIED:20210529T161144Z
UID:2389-1622750400-1622754000@statenislandaa.org
SUMMARY:The Prince's Bay Group - REOPENING
DESCRIPTION:The group will resume in-person meetings at 8pm at 1075 Woodrow Road\, Staten Island.
URL:https://statenislandaa.org/events-calendar/the-princes-bay-group-reopening/
END:VEVENT
BEGIN:VEVENT
DTSTART;TZID=America/New_York:20210603T130000
DTEND;TZID=America/New_York:20210603T140000
DTSTAMP:20260423T152506
CREATED:20210529T160609Z
LAST-MODIFIED:20210529T160632Z
UID:2386-1622725200-1622728800@statenislandaa.org
SUMMARY:The Annadale Group REOPENING
DESCRIPTION:The in-person meeting will resume at 1pm in the church basement of Messiah Lutheran Church located at 205 Jefferson Blvd & Drumgoole Road East.  Masks\, social distancing\, and contact tracing required.  Bring your own coffee\, no food allowed.  80 person limit.
URL:https://statenislandaa.org/events-calendar/the-annadale-group-reopening/
END:VEVENT
BEGIN:VEVENT
DTSTART;TZID=America/New_York:20210523T190000
DTEND;TZID=America/New_York:20210523T203000
DTSTAMP:20260423T152506
CREATED:20210304T193221Z
LAST-MODIFIED:20210523T225300Z
UID:1787-1621796400-1621801800@statenislandaa.org
SUMMARY:S.I.G.S. Island Wide Roundtable Discussion
DESCRIPTION:All groups and members are invited. Bring your thoughts and ideas. How can S.I.G.S. best help you? \n\n\n\n\n\n\n\n\n\n\n\n\n\nZOOM ID:  641 967 1931 \nPasscode:  2021
URL:https://statenislandaa.org/events-calendar/dcm-roundtable-discussion/
LOCATION:Virtual
CATEGORIES:SIGS Meeting
END:VEVENT
BEGIN:VEVENT
DTSTART;TZID=America/New_York:20210417T110000
DTEND;TZID=America/New_York:20210417T123000
DTSTAMP:20260423T152506
CREATED:20210316T142818Z
LAST-MODIFIED:20210316T142818Z
UID:2060-1618657200-1618662600@statenislandaa.org
SUMMARY:NYIG - Public Information (P.I.) Workshop
DESCRIPTION:Workshop on A.A.‘s Purpose and Activities\nTopics will include … \n\nWhat A.A. Is\, and Is Not\nAn Explanation of the 12 Steps of Recovery \nA Description of What A.A. Meetings are Like\nThe Significance and Importance of Anonymity\nFollowed by a Q&A\nVia: Zoom\nID: 939 6316 3079\nPass: 291071
URL:https://statenislandaa.org/events-calendar/nyig-public-information-p-i-workshop/
LOCATION:Virtual
CATEGORIES:NYIG
ATTACH;FMTTYPE=image/jpeg:https://statenislandaa.org/wp-content/uploads/2021/03/What-is-AA.-1-e1615904747870.jpg
END:VEVENT
BEGIN:VEVENT
DTSTART;VALUE=DATE:20210417
DTEND;VALUE=DATE:20210425
DTSTAMP:20260423T152506
CREATED:20210324T163131Z
LAST-MODIFIED:20210324T164017Z
UID:2123-1618617600-1619308799@statenislandaa.org
SUMMARY:2021 Annual General Services Conference
DESCRIPTION:View the final 2021 Annual General Services Conference Agenda here.
URL:https://statenislandaa.org/events-calendar/general-services-conference/
LOCATION:Virtual
END:VEVENT
BEGIN:VEVENT
DTSTART;TZID=America/New_York:20210413T193000
DTEND;TZID=America/New_York:20210413T203000
DTSTAMP:20260423T152506
CREATED:20210315T012636Z
LAST-MODIFIED:20210324T175031Z
UID:2024-1618342200-1618345800@statenislandaa.org
SUMMARY:DCM Workshop:  How to Register Your Group
DESCRIPTION:Save the date: 4/13/21 @ 7:30PM\n\nNew Group?\nOld Group?\nVirtual Group?\n\nHow to be certain that your group can be found Virtually and/or Physically –  Join Staten Island’s DCMs\, NYIG and SENY Area 49 to learn everything you need to know about registering your group. \n 
URL:https://statenislandaa.org/events-calendar/open-district-committee-meeting/
CATEGORIES:DCM,NYIG,S.E.N.Y.
ATTACH;FMTTYPE=image/jpeg:https://statenislandaa.org/wp-content/uploads/2021/03/Registration-Workshop-e1616608215131.jpg
END:VEVENT
BEGIN:VEVENT
DTSTART;TZID=America/New_York:20210411T190000
DTEND;TZID=America/New_York:20210411T210000
DTSTAMP:20260423T152506
CREATED:20210402T172806Z
LAST-MODIFIED:20210402T172806Z
UID:2178-1618167600-1618174800@statenislandaa.org
SUMMARY:S.I.G.S. Committee Meeting
DESCRIPTION:Staten Island General Services (S.I.G.S.) Committee Meeting of GSRs and SIGS Committees\n\n\n\nZOOM ID: 847 1858 9467\nPasscode: 2021
URL:https://statenislandaa.org/events-calendar/s-i-g-s-committee-meeting-2/
LOCATION:Virtual
CATEGORIES:SIGS Meeting
END:VEVENT
BEGIN:VEVENT
DTSTART;TZID=America/New_York:20210411T183000
DTEND;TZID=America/New_York:20210411T190000
DTSTAMP:20260423T152506
CREATED:20210402T171911Z
LAST-MODIFIED:20210402T173252Z
UID:2174-1618165800-1618167600@statenislandaa.org
SUMMARY:S.I.G.S. New GSR Orientation
DESCRIPTION:ZOOM ID: 847 1858 9467\nPasscode: 2021
URL:https://statenislandaa.org/events-calendar/s-i-g-s-new-gsr-orientation-2/
LOCATION:Virtual
CATEGORIES:SIGS Meeting
END:VEVENT
BEGIN:VEVENT
DTSTART;VALUE=DATE:20210410
DTEND;VALUE=DATE:20210411
DTSTAMP:20260423T152506
CREATED:20210313T134325Z
LAST-MODIFIED:20210313T134325Z
UID:1975-1618012800-1618099199@statenislandaa.org
SUMMARY:Pre-Conference Assembly
DESCRIPTION:SAVE THE DATE!\nPre-Conference Assembly: Saturday\, April 10th
URL:https://statenislandaa.org/events-calendar/pre-conference-assembly/
CATEGORIES:S.E.N.Y.
ATTACH;FMTTYPE=image/png:https://statenislandaa.org/wp-content/uploads/2021/03/DDOS-e1615640749620.png
END:VEVENT
BEGIN:VEVENT
DTSTART;TZID=America/New_York:20210327T130000
DTEND;TZID=America/New_York:20210327T150000
DTSTAMP:20260423T152506
CREATED:20210304T202938Z
LAST-MODIFIED:20210325T031303Z
UID:1797-1616850000-1616857200@statenislandaa.org
SUMMARY:NYIG Speaker Exchange Meeting
DESCRIPTION:A Speaker Exchange Meeting allows groups to invite members from other groups as speakers for meetings. In exchange\, your group will be invited to speak at their meetings. A great way to expand the experience\, strength and hope shared at both your meetings and theirs. Follow link to complete documentation and for ZOOM information: https://www.nyintergroup.org/event/exchange-meeting-general-speaker-2021-01-23/2021-03-27/ \n\n\n\n\n\n\n\n\n\n\n\n\n\n 
URL:https://statenislandaa.org/events-calendar/nyig-speaker-exchange-meeting/
CATEGORIES:NYIG,Speaker Exchange Meeting
ATTACH;FMTTYPE=image/png:https://statenislandaa.org/wp-content/uploads/2021/03/Speaker-Exchange-Flyer-e1616641951221.png
END:VEVENT
BEGIN:VEVENT
DTSTART;TZID=America/New_York:20210320T150000
DTEND;TZID=America/New_York:20210320T170000
DTSTAMP:20260423T152506
CREATED:20210313T131529Z
LAST-MODIFIED:20210316T144838Z
UID:1958-1616252400-1616259600@statenislandaa.org
SUMMARY:Delegates Day of Sharing
DESCRIPTION:Delegate’s Day of Sharing on Saturday\, March 20th!  See and hear presentations on all eight items\, with a chance to ask questions of the presenters and your Delegate.  Additionally\, there will be an Ask-it Basket\, to be addressed by a number of your S.E.N.Y. Past Delegates.  \n\n\n\nFollow the link to view the DDoS Questionnaire which outlines the above-referenced eight items: https://www.aaseny.org/from-the-delegate
URL:https://statenislandaa.org/events-calendar/delegates-day-of-sharing/
CATEGORIES:S.E.N.Y.
ATTACH;FMTTYPE=application/pdf:https://statenislandaa.org/wp-content/uploads/2021/03/DDoS_Save_the_Date-1-1.pdf
END:VEVENT
END:VCALENDAR