BEGIN:VCALENDAR
VERSION:2.0
PRODID:-//Staten Island AA General Services - ECPv6.15.20//NONSGML v1.0//EN
CALSCALE:GREGORIAN
METHOD:PUBLISH
X-WR-CALNAME:Staten Island AA General Services
X-ORIGINAL-URL:https://statenislandaa.org
X-WR-CALDESC:Events for Staten Island AA General Services
REFRESH-INTERVAL;VALUE=DURATION:PT1H
X-Robots-Tag:noindex
X-PUBLISHED-TTL:PT1H
BEGIN:VTIMEZONE
TZID:America/New_York
BEGIN:DAYLIGHT
TZOFFSETFROM:-0500
TZOFFSETTO:-0400
TZNAME:EDT
DTSTART:20200308T070000
END:DAYLIGHT
BEGIN:STANDARD
TZOFFSETFROM:-0400
TZOFFSETTO:-0500
TZNAME:EST
DTSTART:20201101T060000
END:STANDARD
BEGIN:DAYLIGHT
TZOFFSETFROM:-0500
TZOFFSETTO:-0400
TZNAME:EDT
DTSTART:20210314T070000
END:DAYLIGHT
BEGIN:STANDARD
TZOFFSETFROM:-0400
TZOFFSETTO:-0500
TZNAME:EST
DTSTART:20211107T060000
END:STANDARD
BEGIN:DAYLIGHT
TZOFFSETFROM:-0500
TZOFFSETTO:-0400
TZNAME:EDT
DTSTART:20220313T070000
END:DAYLIGHT
BEGIN:STANDARD
TZOFFSETFROM:-0400
TZOFFSETTO:-0500
TZNAME:EST
DTSTART:20221106T060000
END:STANDARD
END:VTIMEZONE
BEGIN:VEVENT
DTSTART;TZID=America/New_York:20210808T190000
DTEND;TZID=America/New_York:20210808T210000
DTSTAMP:20260423T200711
CREATED:20210712T115327Z
LAST-MODIFIED:20210712T121352Z
UID:2456-1628449200-1628456400@statenislandaa.org
SUMMARY:Staten Island General Services (SIGS) Meeting
DESCRIPTION:ZOOM ID: 847 1858 9467\nPasscode: 2021
URL:https://statenislandaa.org/events-calendar/staten-island-general-services-sigs-meeting/
LOCATION:Virtual
CATEGORIES:SIGS Meeting
END:VEVENT
BEGIN:VEVENT
DTSTART;TZID=America/New_York:20210808T183000
DTEND;TZID=America/New_York:20210808T190000
DTSTAMP:20260423T200711
CREATED:20210712T114956Z
LAST-MODIFIED:20210712T114956Z
UID:2454-1628447400-1628449200@statenislandaa.org
SUMMARY:New G.S.R. Orientation
DESCRIPTION:ZOOM ID: 847 1858 9467\nPasscode: 2021
URL:https://statenislandaa.org/events-calendar/new-g-s-r-orientation/
LOCATION:Virtual
CATEGORIES:SIGS Meeting
END:VEVENT
BEGIN:VEVENT
DTSTART;TZID=America/New_York:20210711T190000
DTEND;TZID=America/New_York:20210711T210000
DTSTAMP:20260423T200711
CREATED:20210426T021411Z
LAST-MODIFIED:20210708T232033Z
UID:2265-1626030000-1626037200@statenislandaa.org
SUMMARY:S.I.G.S. Committee Meeting
DESCRIPTION:Staten Island General Services (S.I.G.S.) Committee Meeting of GSRs and SIGS Committees\nAll are welcome!  See how AA works below the group level. \n\n\n\n\n\nZOOM ID: 847 1858 9467\nPasscode: 2021
URL:https://statenislandaa.org/events-calendar/s-i-g-s-committee-meeting-3/
LOCATION:Virtual
CATEGORIES:SIGS Meeting
END:VEVENT
BEGIN:VEVENT
DTSTART;TZID=America/New_York:20210523T190000
DTEND;TZID=America/New_York:20210523T203000
DTSTAMP:20260423T200711
CREATED:20210304T193221Z
LAST-MODIFIED:20210523T225300Z
UID:1787-1621796400-1621801800@statenislandaa.org
SUMMARY:S.I.G.S. Island Wide Roundtable Discussion
DESCRIPTION:All groups and members are invited. Bring your thoughts and ideas. How can S.I.G.S. best help you? \n\n\n\n\n\n\n\n\n\n\n\n\n\nZOOM ID:  641 967 1931 \nPasscode:  2021
URL:https://statenislandaa.org/events-calendar/dcm-roundtable-discussion/
LOCATION:Virtual
CATEGORIES:SIGS Meeting
END:VEVENT
BEGIN:VEVENT
DTSTART;TZID=America/New_York:20210411T190000
DTEND;TZID=America/New_York:20210411T210000
DTSTAMP:20260423T200711
CREATED:20210402T172806Z
LAST-MODIFIED:20210402T172806Z
UID:2178-1618167600-1618174800@statenislandaa.org
SUMMARY:S.I.G.S. Committee Meeting
DESCRIPTION:Staten Island General Services (S.I.G.S.) Committee Meeting of GSRs and SIGS Committees\n\n\n\nZOOM ID: 847 1858 9467\nPasscode: 2021
URL:https://statenislandaa.org/events-calendar/s-i-g-s-committee-meeting-2/
LOCATION:Virtual
CATEGORIES:SIGS Meeting
END:VEVENT
BEGIN:VEVENT
DTSTART;TZID=America/New_York:20210411T183000
DTEND;TZID=America/New_York:20210411T190000
DTSTAMP:20260423T200711
CREATED:20210402T171911Z
LAST-MODIFIED:20210402T173252Z
UID:2174-1618165800-1618167600@statenislandaa.org
SUMMARY:S.I.G.S. New GSR Orientation
DESCRIPTION:ZOOM ID: 847 1858 9467\nPasscode: 2021
URL:https://statenislandaa.org/events-calendar/s-i-g-s-new-gsr-orientation-2/
LOCATION:Virtual
CATEGORIES:SIGS Meeting
END:VEVENT
BEGIN:VEVENT
DTSTART;TZID=America/New_York:20210314T190000
DTEND;TZID=America/New_York:20210314T210000
DTSTAMP:20260423T200711
CREATED:20210304T194744Z
LAST-MODIFIED:20210305T185804Z
UID:1789-1615748400-1615755600@statenislandaa.org
SUMMARY:S.I.G.S. Committee Meeting
DESCRIPTION:Staten Island General Services (S.I.G.S.) Committee Meeting of GSRs and SIGS \n\n\n\nZOOM ID:  847 1858 9467Passcode:  2021
URL:https://statenislandaa.org/events-calendar/s-i-g-s-committee-meeting/
CATEGORIES:SIGS Meeting
END:VEVENT
END:VCALENDAR