BEGIN:VCALENDAR
VERSION:2.0
PRODID:-//Staten Island AA General Services - ECPv6.15.20//NONSGML v1.0//EN
CALSCALE:GREGORIAN
METHOD:PUBLISH
X-ORIGINAL-URL:https://statenislandaa.org
X-WR-CALDESC:Events for Staten Island AA General Services
REFRESH-INTERVAL;VALUE=DURATION:PT1H
X-Robots-Tag:noindex
X-PUBLISHED-TTL:PT1H
BEGIN:VTIMEZONE
TZID:America/New_York
BEGIN:DAYLIGHT
TZOFFSETFROM:-0500
TZOFFSETTO:-0400
TZNAME:EDT
DTSTART:20200308T070000
END:DAYLIGHT
BEGIN:STANDARD
TZOFFSETFROM:-0400
TZOFFSETTO:-0500
TZNAME:EST
DTSTART:20201101T060000
END:STANDARD
BEGIN:DAYLIGHT
TZOFFSETFROM:-0500
TZOFFSETTO:-0400
TZNAME:EDT
DTSTART:20210314T070000
END:DAYLIGHT
BEGIN:STANDARD
TZOFFSETFROM:-0400
TZOFFSETTO:-0500
TZNAME:EST
DTSTART:20211107T060000
END:STANDARD
BEGIN:DAYLIGHT
TZOFFSETFROM:-0500
TZOFFSETTO:-0400
TZNAME:EDT
DTSTART:20220313T070000
END:DAYLIGHT
BEGIN:STANDARD
TZOFFSETFROM:-0400
TZOFFSETTO:-0500
TZNAME:EST
DTSTART:20221106T060000
END:STANDARD
END:VTIMEZONE
BEGIN:VEVENT
DTSTART;TZID=America/New_York:20210910T080000
DTEND;TZID=America/New_York:20210910T170000
DTSTAMP:20260423T200424
CREATED:20210712T124328Z
LAST-MODIFIED:20210712T124328Z
UID:2466-1631260800-1631293200@statenislandaa.org
SUMMARY:General Service Conference Agenda Item Deadline - 9/10/21
DESCRIPTION:General Service Conference (G.S.C.) Annual deadline for Agenda submissions is September 10th.  Proposed Agenda Item Submission Form \n 
URL:https://statenislandaa.org/events-calendar/general-service-conference-agenda-item-deadline-9-10-21/
LOCATION:Virtual
CATEGORIES:S.E.N.Y.
END:VEVENT
BEGIN:VEVENT
DTSTART;VALUE=DATE:20210730
DTEND;VALUE=DATE:20210801
DTSTAMP:20260423T200424
CREATED:20210529T151858Z
LAST-MODIFIED:20210529T153923Z
UID:2373-1627603200-1627775999@statenislandaa.org
SUMMARY:Informational Workshop - Area 48
DESCRIPTION:Registration is open for anyone who would like to learn more about General Services in NYS.  Please visit our website for more information.
URL:https://statenislandaa.org/events-calendar/informational-workshop-area-48/
LOCATION:Virtual
CATEGORIES:S.E.N.Y.
ATTACH;FMTTYPE=image/jpeg:https://statenislandaa.org/wp-content/uploads/2021/05/Informational-Workshop-2-e1622302686691.jpg
END:VEVENT
BEGIN:VEVENT
DTSTART;TZID=America/New_York:20210612T090000
DTEND;TZID=America/New_York:20210612T153000
DTSTAMP:20260423T200424
CREATED:20210510T151007Z
LAST-MODIFIED:20210530T084711Z
UID:2339-1623488400-1623511800@statenislandaa.org
SUMMARY:Post-Conference Assembly
DESCRIPTION:Our annual SENY Post-Conference Assembly where you will hear your Delegate’s full report-back on the historic 71st General Service Conference.  You can find the Advisory Actions and Committee Recommendations on line right now: aaseny.org/from-the-delegate – but for the full picture\, please come to this Assembly\, and get an inside view of “how it works” in A.A. as a Whole.  There will be a lot of time for Q&A after my presentation.  ALL A.A. MEMBERS ARE INVITED TO ATTEND!
URL:https://statenislandaa.org/events-calendar/post-conference-assembly/
LOCATION:Virtual
CATEGORIES:S.E.N.Y.
END:VEVENT
BEGIN:VEVENT
DTSTART;TZID=America/New_York:20210413T193000
DTEND;TZID=America/New_York:20210413T203000
DTSTAMP:20260423T200424
CREATED:20210315T012636Z
LAST-MODIFIED:20210324T175031Z
UID:2024-1618342200-1618345800@statenislandaa.org
SUMMARY:DCM Workshop:  How to Register Your Group
DESCRIPTION:Save the date: 4/13/21 @ 7:30PM\n\nNew Group?\nOld Group?\nVirtual Group?\n\nHow to be certain that your group can be found Virtually and/or Physically –  Join Staten Island’s DCMs\, NYIG and SENY Area 49 to learn everything you need to know about registering your group. \n 
URL:https://statenislandaa.org/events-calendar/open-district-committee-meeting/
CATEGORIES:DCM,NYIG,S.E.N.Y.
ATTACH;FMTTYPE=image/jpeg:https://statenislandaa.org/wp-content/uploads/2021/03/Registration-Workshop-e1616608215131.jpg
END:VEVENT
BEGIN:VEVENT
DTSTART;VALUE=DATE:20210410
DTEND;VALUE=DATE:20210411
DTSTAMP:20260423T200424
CREATED:20210313T134325Z
LAST-MODIFIED:20210313T134325Z
UID:1975-1618012800-1618099199@statenislandaa.org
SUMMARY:Pre-Conference Assembly
DESCRIPTION:SAVE THE DATE!\nPre-Conference Assembly: Saturday\, April 10th
URL:https://statenislandaa.org/events-calendar/pre-conference-assembly/
CATEGORIES:S.E.N.Y.
ATTACH;FMTTYPE=image/png:https://statenislandaa.org/wp-content/uploads/2021/03/DDOS-e1615640749620.png
END:VEVENT
BEGIN:VEVENT
DTSTART;TZID=America/New_York:20210320T150000
DTEND;TZID=America/New_York:20210320T170000
DTSTAMP:20260423T200424
CREATED:20210313T131529Z
LAST-MODIFIED:20210316T144838Z
UID:1958-1616252400-1616259600@statenislandaa.org
SUMMARY:Delegates Day of Sharing
DESCRIPTION:Delegate’s Day of Sharing on Saturday\, March 20th!  See and hear presentations on all eight items\, with a chance to ask questions of the presenters and your Delegate.  Additionally\, there will be an Ask-it Basket\, to be addressed by a number of your S.E.N.Y. Past Delegates.  \n\n\n\nFollow the link to view the DDoS Questionnaire which outlines the above-referenced eight items: https://www.aaseny.org/from-the-delegate
URL:https://statenislandaa.org/events-calendar/delegates-day-of-sharing/
CATEGORIES:S.E.N.Y.
ATTACH;FMTTYPE=application/pdf:https://statenislandaa.org/wp-content/uploads/2021/03/DDoS_Save_the_Date-1-1.pdf
END:VEVENT
END:VCALENDAR