BEGIN:VCALENDAR
VERSION:2.0
PRODID:-//Staten Island AA General Services - ECPv6.15.20//NONSGML v1.0//EN
CALSCALE:GREGORIAN
METHOD:PUBLISH
X-WR-CALNAME:Staten Island AA General Services
X-ORIGINAL-URL:https://statenislandaa.org
X-WR-CALDESC:Events for Staten Island AA General Services
REFRESH-INTERVAL;VALUE=DURATION:PT1H
X-Robots-Tag:noindex
X-PUBLISHED-TTL:PT1H
BEGIN:VTIMEZONE
TZID:America/New_York
BEGIN:DAYLIGHT
TZOFFSETFROM:-0500
TZOFFSETTO:-0400
TZNAME:EDT
DTSTART:20200308T070000
END:DAYLIGHT
BEGIN:STANDARD
TZOFFSETFROM:-0400
TZOFFSETTO:-0500
TZNAME:EST
DTSTART:20201101T060000
END:STANDARD
BEGIN:DAYLIGHT
TZOFFSETFROM:-0500
TZOFFSETTO:-0400
TZNAME:EDT
DTSTART:20210314T070000
END:DAYLIGHT
BEGIN:STANDARD
TZOFFSETFROM:-0400
TZOFFSETTO:-0500
TZNAME:EST
DTSTART:20211107T060000
END:STANDARD
BEGIN:DAYLIGHT
TZOFFSETFROM:-0500
TZOFFSETTO:-0400
TZNAME:EDT
DTSTART:20220313T070000
END:DAYLIGHT
BEGIN:STANDARD
TZOFFSETFROM:-0400
TZOFFSETTO:-0500
TZNAME:EST
DTSTART:20221106T060000
END:STANDARD
END:VTIMEZONE
BEGIN:VEVENT
DTSTART;TZID=America/New_York:20210626T130000
DTEND;TZID=America/New_York:20210626T150000
DTSTAMP:20260423T224834
CREATED:20210510T141551Z
LAST-MODIFIED:20210510T142312Z
UID:2333-1624712400-1624719600@statenislandaa.org
SUMMARY:Speaker Exchange Meeting
DESCRIPTION:A Speaker Exchange Meeting allows groups to invite members from other groups as speakers for meetings. In exchange\, your group will be invited to speak at their meetings. A great way to expand the experience\, strength and hope shared at both your meetings and theirs.
URL:https://statenislandaa.org/events-calendar/speaker-exchange-meeting/
LOCATION:Virtual
CATEGORIES:NYIG
END:VEVENT
BEGIN:VEVENT
DTSTART;TZID=America/New_York:20210617T193000
DTEND;TZID=America/New_York:20210617T203000
DTSTAMP:20260423T224834
CREATED:20210315T013853Z
LAST-MODIFIED:20210510T140906Z
UID:2028-1623958200-1623961800@statenislandaa.org
SUMMARY:NYIG - Staten Island Area Forum
DESCRIPTION:“An Area Forum is a meeting for New York Inter-Group Delegates and other A.A. members sponsored by the NYIG Office that meets bi-monthly in each Borough and Westchester County.  The meetings are presided by elected Area Representatives that are members of the Steering Committee.  The Forum provides an opportunity for Delegates to remain informed about timely New York Inter-Group A.A. activities\, special events\, elections\, and volunteer opportunities that they can report back to their Groups.  Forums serve as a chance for Delegates’ to share with their Area Representative any problems or concerns their members or groups are having so NYIG can use its experience and resources to assist with possible solutions. For more information please call 212-647-1680.” \nMeeting ID: 307 831 6673\nPassword: 2021 \n 
URL:https://statenislandaa.org/events-calendar/nyig-staten-island-area-forum/
LOCATION:Virtual
CATEGORIES:NYIG
END:VEVENT
BEGIN:VEVENT
DTSTART;TZID=America/New_York:20210417T110000
DTEND;TZID=America/New_York:20210417T123000
DTSTAMP:20260423T224834
CREATED:20210316T142818Z
LAST-MODIFIED:20210316T142818Z
UID:2060-1618657200-1618662600@statenislandaa.org
SUMMARY:NYIG - Public Information (P.I.) Workshop
DESCRIPTION:Workshop on A.A.‘s Purpose and Activities\nTopics will include … \n\nWhat A.A. Is\, and Is Not\nAn Explanation of the 12 Steps of Recovery \nA Description of What A.A. Meetings are Like\nThe Significance and Importance of Anonymity\nFollowed by a Q&A\nVia: Zoom\nID: 939 6316 3079\nPass: 291071
URL:https://statenislandaa.org/events-calendar/nyig-public-information-p-i-workshop/
LOCATION:Virtual
CATEGORIES:NYIG
ATTACH;FMTTYPE=image/jpeg:https://statenislandaa.org/wp-content/uploads/2021/03/What-is-AA.-1-e1615904747870.jpg
END:VEVENT
BEGIN:VEVENT
DTSTART;TZID=America/New_York:20210413T193000
DTEND;TZID=America/New_York:20210413T203000
DTSTAMP:20260423T224834
CREATED:20210315T012636Z
LAST-MODIFIED:20210324T175031Z
UID:2024-1618342200-1618345800@statenislandaa.org
SUMMARY:DCM Workshop:  How to Register Your Group
DESCRIPTION:Save the date: 4/13/21 @ 7:30PM\n\nNew Group?\nOld Group?\nVirtual Group?\n\nHow to be certain that your group can be found Virtually and/or Physically –  Join Staten Island’s DCMs\, NYIG and SENY Area 49 to learn everything you need to know about registering your group. \n 
URL:https://statenislandaa.org/events-calendar/open-district-committee-meeting/
CATEGORIES:DCM,NYIG,S.E.N.Y.
ATTACH;FMTTYPE=image/jpeg:https://statenislandaa.org/wp-content/uploads/2021/03/Registration-Workshop-e1616608215131.jpg
END:VEVENT
BEGIN:VEVENT
DTSTART;TZID=America/New_York:20210327T130000
DTEND;TZID=America/New_York:20210327T150000
DTSTAMP:20260423T224834
CREATED:20210304T202938Z
LAST-MODIFIED:20210325T031303Z
UID:1797-1616850000-1616857200@statenislandaa.org
SUMMARY:NYIG Speaker Exchange Meeting
DESCRIPTION:A Speaker Exchange Meeting allows groups to invite members from other groups as speakers for meetings. In exchange\, your group will be invited to speak at their meetings. A great way to expand the experience\, strength and hope shared at both your meetings and theirs. Follow link to complete documentation and for ZOOM information: https://www.nyintergroup.org/event/exchange-meeting-general-speaker-2021-01-23/2021-03-27/ \n\n\n\n\n\n\n\n\n\n\n\n\n\n 
URL:https://statenislandaa.org/events-calendar/nyig-speaker-exchange-meeting/
CATEGORIES:NYIG,Speaker Exchange Meeting
ATTACH;FMTTYPE=image/png:https://statenislandaa.org/wp-content/uploads/2021/03/Speaker-Exchange-Flyer-e1616641951221.png
END:VEVENT
END:VCALENDAR